Package: CaMutQC Version: 1.2.0 Command: /home/biocbuild/bbs-3.20-bioc/R/bin/R CMD check --install=check:CaMutQC.install-out.txt --library=/home/biocbuild/bbs-3.20-bioc/R/site-library --timings CaMutQC_1.2.0.tar.gz StartedAt: 2025-02-03 20:41:04 -0500 (Mon, 03 Feb 2025) EndedAt: 2025-02-03 20:45:00 -0500 (Mon, 03 Feb 2025) EllapsedTime: 236.2 seconds RetCode: 0 Status: OK CheckDir: CaMutQC.Rcheck Warnings: 0