Package: CaMutQC Version: 1.2.0 Command: /home/biocbuild/R/R/bin/R CMD build --keep-empty-dirs --no-resave-data CaMutQC StartedAt: 2025-02-03 22:21:45 -0000 (Mon, 03 Feb 2025) EndedAt: 2025-02-03 22:23:16 -0000 (Mon, 03 Feb 2025) EllapsedTime: 91.0 seconds RetCode: 0 Status: OK PackageFile: CaMutQC_1.2.0.tar.gz PackageFileSize: 4.914 MiB