Package: Cardinal Version: 3.8.3 Command: /Library/Frameworks/R.framework/Resources/bin/R CMD INSTALL Cardinal StartedAt: 2025-02-03 16:31:30 -0500 (Mon, 03 Feb 2025) EndedAt: 2025-02-03 16:31:58 -0500 (Mon, 03 Feb 2025) EllapsedTime: 28.0 seconds RetCode: 0 Status: OK