Package: Cardinal Version: 3.8.3 Command: rm -rf Cardinal.buildbin-libdir && mkdir Cardinal.buildbin-libdir && /Users/biocbuild/BBS/utils/build-universal.sh Cardinal_3.8.3.tar.gz /Library/Frameworks/R.framework/Resources/bin/R Cardinal.buildbin-libdir StartedAt: 2025-02-04 12:35:51 -0500 (Tue, 04 Feb 2025) EndedAt: 2025-02-04 12:36:59 -0500 (Tue, 04 Feb 2025) EllapsedTime: 68.0 seconds RetCode: 0 Status: OK PackageFile: Cardinal_3.8.3.tgz PackageFileSize: 6.645 MiB