Package: Cardinal Version: 3.8.3 Command: /Library/Frameworks/R.framework/Resources/bin/R CMD check --install=check:Cardinal.install-out.txt --library=/Library/Frameworks/R.framework/Resources/library --no-vignettes --timings Cardinal_3.8.3.tar.gz StartedAt: 2025-01-31 01:12:38 -0500 (Fri, 31 Jan 2025) EndedAt: 2025-01-31 01:27:17 -0500 (Fri, 31 Jan 2025) EllapsedTime: 878.6 seconds RetCode: 0 Status: OK CheckDir: Cardinal.Rcheck Warnings: 0