Package: Cardinal Version: 3.8.3 Command: /home/biocbuild/bbs-3.20-bioc/R/bin/R CMD build --keep-empty-dirs --no-resave-data --md5 Cardinal StartedAt: 2025-02-03 16:42:27 -0500 (Mon, 03 Feb 2025) EndedAt: 2025-02-03 16:49:04 -0500 (Mon, 03 Feb 2025) EllapsedTime: 397.5 seconds RetCode: 0 Status: OK PackageFile: Cardinal_3.8.3.tar.gz PackageFileSize: 5.187 MiB