Package: Cardinal Version: 3.8.3 Command: rm -rf Cardinal.buildbin-libdir && mkdir Cardinal.buildbin-libdir && F:\biocbuild\bbs-3.20-bioc\R\bin\R.exe CMD INSTALL --build --library=Cardinal.buildbin-libdir Cardinal_3.8.3.tar.gz StartedAt: 2025-02-04 08:07:31 -0500 (Tue, 04 Feb 2025) EndedAt: 2025-02-04 08:10:22 -0500 (Tue, 04 Feb 2025) EllapsedTime: 171.4 seconds RetCode: 0 Status: OK PackageFile: Cardinal_3.8.3.zip PackageFileSize: 3.368 MiB