Package: Cardinal Version: 3.8.3 Command: chmod a+r Cardinal -R && F:\biocbuild\bbs-3.20-bioc\R\bin\R.exe CMD build --keep-empty-dirs --no-resave-data Cardinal StartedAt: 2025-02-03 17:56:41 -0500 (Mon, 03 Feb 2025) EndedAt: 2025-02-03 18:06:27 -0500 (Mon, 03 Feb 2025) EllapsedTime: 586.6 seconds RetCode: 0 Status: OK PackageFile: Cardinal_3.8.3.tar.gz PackageFileSize: 1.883 MiB