Package: Cardinal Version: 3.8.3 Command: F:\biocbuild\bbs-3.20-bioc\R\bin\R.exe CMD INSTALL Cardinal StartedAt: 2025-02-03 15:59:05 -0500 (Mon, 03 Feb 2025) EndedAt: 2025-02-03 16:01:45 -0500 (Mon, 03 Feb 2025) EllapsedTime: 159.8 seconds RetCode: 0 Status: OK