Package: Cardinal Version: 3.8.3 Command: /home/biocbuild/R/R/bin/R CMD build --keep-empty-dirs --no-resave-data Cardinal StartedAt: 2025-01-30 22:20:53 -0000 (Thu, 30 Jan 2025) EndedAt: 2025-01-30 22:30:32 -0000 (Thu, 30 Jan 2025) EllapsedTime: 579.2 seconds RetCode: 0 Status: OK PackageFile: Cardinal_3.8.3.tar.gz PackageFileSize: 2.597 MiB