Package: Category Version: 2.72.0 Command: rm -rf Category.buildbin-libdir && mkdir Category.buildbin-libdir && /Users/biocbuild/BBS/utils/build-universal.sh Category_2.72.0.tar.gz /Library/Frameworks/R.framework/Resources/bin/R Category.buildbin-libdir StartedAt: 2025-02-05 15:06:43 -0500 (Wed, 05 Feb 2025) EndedAt: 2025-02-05 15:07:12 -0500 (Wed, 05 Feb 2025) EllapsedTime: 29.4 seconds RetCode: 0 Status: OK PackageFile: Category_2.72.0.tgz PackageFileSize: 1.409 MiB