Package: Category Version: 2.72.0 Command: /Library/Frameworks/R.framework/Resources/bin/R CMD build --keep-empty-dirs --no-resave-data Category StartedAt: 2025-02-10 20:12:22 -0500 (Mon, 10 Feb 2025) EndedAt: 2025-02-10 20:14:09 -0500 (Mon, 10 Feb 2025) EllapsedTime: 106.4 seconds RetCode: 0 Status: OK PackageFile: Category_2.72.0.tar.gz PackageFileSize: 873.8 KiB