Package: Category Version: 2.72.0 Command: /Library/Frameworks/R.framework/Resources/bin/R CMD INSTALL Category StartedAt: 2025-02-03 17:10:42 -0500 (Mon, 03 Feb 2025) EndedAt: 2025-02-03 17:11:09 -0500 (Mon, 03 Feb 2025) EllapsedTime: 26.8 seconds RetCode: 0 Status: OK