Package: Category Version: 2.72.0 Command: /Library/Frameworks/R.framework/Resources/bin/R CMD INSTALL Category StartedAt: 2024-11-19 15:33:33 -0500 (Tue, 19 Nov 2024) EndedAt: 2024-11-19 15:34:07 -0500 (Tue, 19 Nov 2024) EllapsedTime: 33.9 seconds RetCode: 0 Status: OK