Package: Category Version: 2.72.0 Command: /Library/Frameworks/R.framework/Resources/bin/R CMD build --keep-empty-dirs --no-resave-data Category StartedAt: 2025-02-03 17:39:37 -0500 (Mon, 03 Feb 2025) EndedAt: 2025-02-03 17:42:31 -0500 (Mon, 03 Feb 2025) EllapsedTime: 173.5 seconds RetCode: 0 Status: OK PackageFile: Category_2.72.0.tar.gz PackageFileSize: 873.8 KiB