Package: Category Version: 2.72.0 Command: /home/biocbuild/bbs-3.20-bioc/R/bin/R CMD build --keep-empty-dirs --no-resave-data --md5 Category StartedAt: 2025-02-03 16:42:40 -0500 (Mon, 03 Feb 2025) EndedAt: 2025-02-03 16:43:59 -0500 (Mon, 03 Feb 2025) EllapsedTime: 79.1 seconds RetCode: 0 Status: OK PackageFile: Category_2.72.0.tar.gz PackageFileSize: 877.4 KiB