Package: Category Version: 2.72.0 Command: /home/biocbuild/bbs-3.20-bioc/R/bin/R CMD INSTALL Category StartedAt: 2025-02-03 15:51:09 -0500 (Mon, 03 Feb 2025) EndedAt: 2025-02-03 15:51:33 -0500 (Mon, 03 Feb 2025) EllapsedTime: 24.1 seconds RetCode: 0 Status: OK