Package: Category Version: 2.72.0 Command: F:\biocbuild\bbs-3.20-bioc\R\bin\R.exe CMD INSTALL Category StartedAt: 2025-02-03 16:10:04 -0500 (Mon, 03 Feb 2025) EndedAt: 2025-02-03 16:11:20 -0500 (Mon, 03 Feb 2025) EllapsedTime: 75.5 seconds RetCode: 0 Status: OK