Package: Category Version: 2.72.0 Command: /home/biocbuild/R/R/bin/R CMD INSTALL Category StartedAt: 2025-02-03 21:05:33 -0000 (Mon, 03 Feb 2025) EndedAt: 2025-02-03 21:06:02 -0000 (Mon, 03 Feb 2025) EllapsedTime: 29.3 seconds RetCode: 0 Status: OK