Package: CausalR Version: 1.38.0 Command: chmod a+r CausalR -R && F:\biocbuild\bbs-3.20-bioc\R\bin\R.exe CMD build --keep-empty-dirs --no-resave-data CausalR StartedAt: 2025-02-10 17:51:44 -0500 (Mon, 10 Feb 2025) EndedAt: 2025-02-10 17:52:40 -0500 (Mon, 10 Feb 2025) EllapsedTime: 56.4 seconds RetCode: 0 Status: OK PackageFile: CausalR_1.38.0.tar.gz PackageFileSize: 574.8 KiB