Package: CellBarcode Version: 1.12.0 Command: /Library/Frameworks/R.framework/Resources/bin/R CMD build --keep-empty-dirs --no-resave-data CellBarcode StartedAt: 2025-02-03 20:11:50 -0500 (Mon, 03 Feb 2025) EndedAt: 2025-02-03 20:13:31 -0500 (Mon, 03 Feb 2025) EllapsedTime: 101.2 seconds RetCode: 0 Status: OK PackageFile: CellBarcode_1.12.0.tar.gz PackageFileSize: 3.118 MiB