Package: CellBarcode Version: 1.12.0 Command: /Library/Frameworks/R.framework/Resources/bin/R CMD check --install=check:CellBarcode.install-out.txt --library=/Library/Frameworks/R.framework/Resources/library --no-vignettes --timings CellBarcode_1.12.0.tar.gz StartedAt: 2025-02-11 13:52:11 -0500 (Tue, 11 Feb 2025) EndedAt: 2025-02-11 13:57:18 -0500 (Tue, 11 Feb 2025) EllapsedTime: 307.6 seconds RetCode: 0 Status: OK CheckDir: CellBarcode.Rcheck Warnings: 0