Package: CellBarcode Version: 1.12.0 Command: /Library/Frameworks/R.framework/Resources/bin/R CMD INSTALL CellBarcode StartedAt: 2025-02-03 15:45:53 -0500 (Mon, 03 Feb 2025) EndedAt: 2025-02-03 15:47:51 -0500 (Mon, 03 Feb 2025) EllapsedTime: 117.4 seconds RetCode: 0 Status: OK