Package: CellBarcode Version: 1.12.0 Command: /home/biocbuild/R/R/bin/R CMD INSTALL CellBarcode StartedAt: 2025-02-03 20:47:21 -0000 (Mon, 03 Feb 2025) EndedAt: 2025-02-03 20:48:39 -0000 (Mon, 03 Feb 2025) EllapsedTime: 78.0 seconds RetCode: 0 Status: OK