Package: CellBench Version: 1.22.0 Command: rm -rf CellBench.buildbin-libdir && mkdir CellBench.buildbin-libdir && /Users/biocbuild/BBS/utils/build-universal.sh CellBench_1.22.0.tar.gz /Library/Frameworks/R.framework/Resources/bin/R CellBench.buildbin-libdir StartedAt: 2025-02-01 14:13:27 -0500 (Sat, 01 Feb 2025) EndedAt: 2025-02-01 14:14:02 -0500 (Sat, 01 Feb 2025) EllapsedTime: 35.8 seconds RetCode: 0 Status: OK PackageFile: CellBench_1.22.0.tgz PackageFileSize: 3.091 MiB