Package: CellBench Version: 1.22.0 Command: /Library/Frameworks/R.framework/Resources/bin/R CMD INSTALL CellBench StartedAt: 2025-01-30 15:48:02 -0500 (Thu, 30 Jan 2025) EndedAt: 2025-01-30 15:48:34 -0500 (Thu, 30 Jan 2025) EllapsedTime: 31.7 seconds RetCode: 0 Status: OK