Package: CellBench Version: 1.22.0 Command: rm -rf CellBench.buildbin-libdir && mkdir CellBench.buildbin-libdir && /Users/biocbuild/BBS/utils/build-universal.sh CellBench_1.22.0.tar.gz /Library/Frameworks/R.framework/Resources/bin/R CellBench.buildbin-libdir StartedAt: 2024-11-09 16:41:12 -0500 (Sat, 09 Nov 2024) EndedAt: 2024-11-09 16:41:23 -0500 (Sat, 09 Nov 2024) EllapsedTime: 11.2 seconds RetCode: 0 Status: OK PackageFile: CellBench_1.22.0.tgz PackageFileSize: 3.095 MiB