Package: CellBench Version: 1.22.0 Command: /Library/Frameworks/R.framework/Resources/bin/R CMD check --install=check:CellBench.install-out.txt --library=/Library/Frameworks/R.framework/Resources/library --no-vignettes --timings CellBench_1.22.0.tar.gz StartedAt: 2024-11-08 22:23:28 -0500 (Fri, 08 Nov 2024) EndedAt: 2024-11-08 22:28:29 -0500 (Fri, 08 Nov 2024) EllapsedTime: 300.8 seconds RetCode: 0 Status: OK CheckDir: CellBench.Rcheck Warnings: 0