Package: CellBench Version: 1.22.0 Command: /Library/Frameworks/R.framework/Resources/bin/R CMD build --keep-empty-dirs --no-resave-data CellBench StartedAt: 2025-01-30 17:46:47 -0500 (Thu, 30 Jan 2025) EndedAt: 2025-01-30 17:48:39 -0500 (Thu, 30 Jan 2025) EllapsedTime: 111.7 seconds RetCode: 0 Status: OK PackageFile: CellBench_1.22.0.tar.gz PackageFileSize: 3.015 MiB