Package: CellBench Version: 1.22.0 Command: /Library/Frameworks/R.framework/Resources/bin/R CMD check --install=check:CellBench.install-out.txt --library=/Library/Frameworks/R.framework/Resources/library --no-vignettes --timings CellBench_1.22.0.tar.gz StartedAt: 2025-01-31 01:21:09 -0500 (Fri, 31 Jan 2025) EndedAt: 2025-01-31 01:28:40 -0500 (Fri, 31 Jan 2025) EllapsedTime: 451.0 seconds RetCode: 0 Status: OK CheckDir: CellBench.Rcheck Warnings: 0