Package: CellMixS Version: 1.22.0 Command: rm -rf CellMixS.buildbin-libdir && mkdir CellMixS.buildbin-libdir && /Users/biocbuild/BBS/utils/build-universal.sh CellMixS_1.22.0.tar.gz /Library/Frameworks/R.framework/Resources/bin/R CellMixS.buildbin-libdir StartedAt: 2025-02-01 14:13:59 -0500 (Sat, 01 Feb 2025) EndedAt: 2025-02-01 14:14:33 -0500 (Sat, 01 Feb 2025) EllapsedTime: 34.0 seconds RetCode: 0 Status: OK PackageFile: CellMixS_1.22.0.tgz PackageFileSize: 4.213 MiB