Package: CellMixS Version: 1.22.0 Command: /Library/Frameworks/R.framework/Resources/bin/R CMD build --keep-empty-dirs --no-resave-data CellMixS StartedAt: 2025-01-30 20:23:40 -0500 (Thu, 30 Jan 2025) EndedAt: 2025-01-30 20:26:19 -0500 (Thu, 30 Jan 2025) EllapsedTime: 159.1 seconds RetCode: 0 Status: OK PackageFile: CellMixS_1.22.0.tar.gz PackageFileSize: 4.125 MiB