Package: CellMixS Version: 1.22.0 Command: /Library/Frameworks/R.framework/Resources/bin/R CMD INSTALL CellMixS StartedAt: 2025-01-30 17:50:13 -0500 (Thu, 30 Jan 2025) EndedAt: 2025-01-30 17:50:44 -0500 (Thu, 30 Jan 2025) EllapsedTime: 31.4 seconds RetCode: 0 Status: OK