Package: CellMixS Version: 1.22.0 Command: /home/biocbuild/bbs-3.20-bioc/R/bin/R CMD INSTALL CellMixS StartedAt: 2025-01-30 15:54:03 -0500 (Thu, 30 Jan 2025) EndedAt: 2025-01-30 15:54:32 -0500 (Thu, 30 Jan 2025) EllapsedTime: 28.2 seconds RetCode: 0 Status: OK