Package: CellMixS Version: 1.22.0 Command: /home/biocbuild/R/R/bin/R CMD build --keep-empty-dirs --no-resave-data CellMixS StartedAt: 2025-01-30 22:26:30 -0000 (Thu, 30 Jan 2025) EndedAt: 2025-01-30 22:30:03 -0000 (Thu, 30 Jan 2025) EllapsedTime: 213.1 seconds RetCode: 0 Status: OK PackageFile: CellMixS_1.22.0.tar.gz PackageFileSize: 2.838 MiB