Package: CellTrails Version: 1.24.0 Command: /Library/Frameworks/R.framework/Resources/bin/R CMD build --keep-empty-dirs --no-resave-data CellTrails StartedAt: 2025-02-03 17:43:35 -0500 (Mon, 03 Feb 2025) EndedAt: 2025-02-03 17:45:02 -0500 (Mon, 03 Feb 2025) EllapsedTime: 87.7 seconds RetCode: 0 Status: OK PackageFile: CellTrails_1.24.0.tar.gz PackageFileSize: 2.628 MiB