Package: CellTrails Version: 1.24.0 Command: F:\biocbuild\bbs-3.20-bioc\R\bin\R.exe CMD INSTALL CellTrails StartedAt: 2025-02-03 16:32:07 -0500 (Mon, 03 Feb 2025) EndedAt: 2025-02-03 16:34:12 -0500 (Mon, 03 Feb 2025) EllapsedTime: 125.0 seconds RetCode: 0 Status: OK