Package: CellTrails Version: 1.24.0 Command: /home/biocbuild/R/R/bin/R CMD build --keep-empty-dirs --no-resave-data CellTrails StartedAt: 2025-02-03 22:29:22 -0000 (Mon, 03 Feb 2025) EndedAt: 2025-02-03 22:30:10 -0000 (Mon, 03 Feb 2025) EllapsedTime: 48.0 seconds RetCode: 0 Status: OK PackageFile: CellTrails_1.24.0.tar.gz PackageFileSize: 2.625 MiB