Package: CellTrails Version: 1.24.0 Command: /home/biocbuild/R/R/bin/R CMD check --install=check:CellTrails.install-out.txt --library=/home/biocbuild/R/R/site-library --no-vignettes --timings CellTrails_1.24.0.tar.gz StartedAt: 2025-02-11 04:40:23 -0000 (Tue, 11 Feb 2025) EndedAt: 2025-02-11 04:45:31 -0000 (Tue, 11 Feb 2025) EllapsedTime: 308.3 seconds RetCode: 0 Status: OK CheckDir: CellTrails.Rcheck Warnings: 0