Package: CellTrails Version: 1.24.0 Command: /home/biocbuild/R/R/bin/R CMD INSTALL CellTrails StartedAt: 2025-02-03 20:33:49 -0000 (Mon, 03 Feb 2025) EndedAt: 2025-02-03 20:34:34 -0000 (Mon, 03 Feb 2025) EllapsedTime: 44.9 seconds RetCode: 0 Status: OK