Package: CellaRepertorium Version: 1.16.0 Command: /Library/Frameworks/R.framework/Resources/bin/R CMD build --keep-empty-dirs --no-resave-data CellaRepertorium StartedAt: 2025-02-03 20:10:53 -0500 (Mon, 03 Feb 2025) EndedAt: 2025-02-03 20:12:27 -0500 (Mon, 03 Feb 2025) EllapsedTime: 93.9 seconds RetCode: 1 Status: ERROR PackageFile: None PackageFileSize: NA