Package: CellaRepertorium Version: 1.16.0 Command: /home/biocbuild/bbs-3.20-bioc/R/bin/R CMD build --keep-empty-dirs --no-resave-data --md5 CellaRepertorium StartedAt: 2025-02-03 16:44:17 -0500 (Mon, 03 Feb 2025) EndedAt: 2025-02-03 16:45:37 -0500 (Mon, 03 Feb 2025) EllapsedTime: 80.1 seconds RetCode: 1 Status: ERROR PackageFile: None PackageFileSize: NA