Package: CellaRepertorium Version: 1.16.0 Command: /home/biocbuild/bbs-3.20-bioc/R/bin/R CMD INSTALL CellaRepertorium StartedAt: 2025-02-03 15:23:03 -0500 (Mon, 03 Feb 2025) EndedAt: 2025-02-03 15:23:33 -0500 (Mon, 03 Feb 2025) EllapsedTime: 30.6 seconds RetCode: 0 Status: OK