Package: CellaRepertorium Version: 1.16.0 Command: chmod a+r CellaRepertorium -R && F:\biocbuild\bbs-3.20-bioc\R\bin\R.exe CMD build --keep-empty-dirs --no-resave-data CellaRepertorium StartedAt: 2025-02-03 17:59:32 -0500 (Mon, 03 Feb 2025) EndedAt: 2025-02-03 18:01:55 -0500 (Mon, 03 Feb 2025) EllapsedTime: 142.7 seconds RetCode: 1 Status: ERROR PackageFile: None PackageFileSize: NA