Package: CellaRepertorium Version: 1.16.0 Command: F:\biocbuild\bbs-3.20-bioc\R\bin\R.exe CMD INSTALL CellaRepertorium StartedAt: 2025-02-03 16:02:52 -0500 (Mon, 03 Feb 2025) EndedAt: 2025-02-03 16:07:57 -0500 (Mon, 03 Feb 2025) EllapsedTime: 305.2 seconds RetCode: 0 Status: OK