Package: CelliD Version: 1.14.0 Command: rm -rf CelliD.buildbin-libdir && mkdir CelliD.buildbin-libdir && /Users/biocbuild/BBS/utils/build-universal.sh CelliD_1.14.0.tar.gz /Library/Frameworks/R.framework/Resources/bin/R CelliD.buildbin-libdir StartedAt: 2025-02-12 14:22:49 -0500 (Wed, 12 Feb 2025) EndedAt: 2025-02-12 14:24:08 -0500 (Wed, 12 Feb 2025) EllapsedTime: 79.0 seconds RetCode: 0 Status: OK PackageFile: CelliD_1.14.0.tgz PackageFileSize: 2.877 MiB