Package: CelliD Version: 1.14.0 Command: /Library/Frameworks/R.framework/Resources/bin/R CMD check --install=check:CelliD.install-out.txt --library=/Library/Frameworks/R.framework/Resources/library --no-vignettes --timings CelliD_1.14.0.tar.gz StartedAt: 2025-02-11 00:51:51 -0500 (Tue, 11 Feb 2025) EndedAt: 2025-02-11 01:03:03 -0500 (Tue, 11 Feb 2025) EllapsedTime: 671.9 seconds RetCode: 0 Status: WARNINGS CheckDir: CelliD.Rcheck Warnings: 1