Package: CelliD Version: 1.14.0 Command: /home/biocbuild/bbs-3.20-bioc/R/bin/R CMD check --install=check:CelliD.install-out.txt --library=/home/biocbuild/bbs-3.20-bioc/R/site-library --timings CelliD_1.14.0.tar.gz StartedAt: 2025-02-03 20:48:28 -0500 (Mon, 03 Feb 2025) EndedAt: 2025-02-03 21:03:12 -0500 (Mon, 03 Feb 2025) EllapsedTime: 883.9 seconds RetCode: 0 Status: WARNINGS CheckDir: CelliD.Rcheck Warnings: 1