Package: CelliD Version: 1.14.0 Command: F:\biocbuild\bbs-3.20-bioc\R\bin\R.exe CMD check --no-multiarch --install=check:CelliD.install-out.txt --library=F:\biocbuild\bbs-3.20-bioc\R\library --no-vignettes --timings CelliD_1.14.0.tar.gz StartedAt: 2025-02-04 00:06:04 -0500 (Tue, 04 Feb 2025) EndedAt: 2025-02-04 00:12:50 -0500 (Tue, 04 Feb 2025) EllapsedTime: 405.4 seconds RetCode: 0 Status: WARNINGS CheckDir: CelliD.Rcheck Warnings: 1