Package: CexoR Version: 1.44.0 Command: /Library/Frameworks/R.framework/Resources/bin/R CMD INSTALL CexoR StartedAt: 2025-02-10 15:37:20 -0500 (Mon, 10 Feb 2025) EndedAt: 2025-02-10 15:38:37 -0500 (Mon, 10 Feb 2025) EllapsedTime: 76.9 seconds RetCode: 0 Status: OK